BEGIN:VCALENDAR
VERSION:2.0
PRODID:-//Alexandria Republican City Committee - ECPv6.15.20//NONSGML v1.0//EN
CALSCALE:GREGORIAN
METHOD:PUBLISH
X-ORIGINAL-URL:https://alexgop.org
X-WR-CALDESC:Events for Alexandria Republican City Committee
REFRESH-INTERVAL;VALUE=DURATION:PT1H
X-Robots-Tag:noindex
X-PUBLISHED-TTL:PT1H
BEGIN:VTIMEZONE
TZID:America/New_York
BEGIN:DAYLIGHT
TZOFFSETFROM:-0500
TZOFFSETTO:-0400
TZNAME:EDT
DTSTART:20230312T070000
END:DAYLIGHT
BEGIN:STANDARD
TZOFFSETFROM:-0400
TZOFFSETTO:-0500
TZNAME:EST
DTSTART:20231105T060000
END:STANDARD
BEGIN:DAYLIGHT
TZOFFSETFROM:-0500
TZOFFSETTO:-0400
TZNAME:EDT
DTSTART:20240310T070000
END:DAYLIGHT
BEGIN:STANDARD
TZOFFSETFROM:-0400
TZOFFSETTO:-0500
TZNAME:EST
DTSTART:20241103T060000
END:STANDARD
BEGIN:DAYLIGHT
TZOFFSETFROM:-0500
TZOFFSETTO:-0400
TZNAME:EDT
DTSTART:20250309T070000
END:DAYLIGHT
BEGIN:STANDARD
TZOFFSETFROM:-0400
TZOFFSETTO:-0500
TZNAME:EST
DTSTART:20251102T060000
END:STANDARD
END:VTIMEZONE
BEGIN:VEVENT
DTSTART;TZID=America/New_York:20241210T183000
DTEND;TZID=America/New_York:20241210T223000
DTSTAMP:20260424T075729
CREATED:20241122T195520Z
LAST-MODIFIED:20241203T175943Z
UID:10000007-1733855400-1733869800@alexgop.org
SUMMARY:Alexandria GOP Holiday Party
DESCRIPTION:Alexandria GOP Holiday Party \nUnion Street Public House\nTuesday\, December 10th\, 2024 \n6:30 – 8:00 | GW Room\n7:30 – 10:30 | Grille Room \nJoin us on December 10th for the Alexandria GOP’s Annual Holiday Party featuring special guest Sean Spicer\, Host of the Sean Spicer Show. Tickets to the 6:30pm reception with Sean Spicer also admit you to the 7:30pm Holiday Mingle. \nRSVP
URL:https://alexgop.org/event/alexandria-gop-holiday-party/
LOCATION:Union Street Public House\, 121 S Union St\, Alexandria\, 22314\, United States
ATTACH;FMTTYPE=image/png:https://alexgop.org/wp-content/uploads/2024/11/Screenshot-2024-12-03-at-12.59.18 PM.png
ORGANIZER;CN="Alexandria City Republicans":MAILTO:info@alexgop.org
END:VEVENT
END:VCALENDAR