BEGIN:VCALENDAR
VERSION:2.0
PRODID:-//Alexandria Republican City Committee - ECPv6.15.20//NONSGML v1.0//EN
CALSCALE:GREGORIAN
METHOD:PUBLISH
X-WR-CALNAME:Alexandria Republican City Committee
X-ORIGINAL-URL:https://alexgop.org
X-WR-CALDESC:Events for Alexandria Republican City Committee
REFRESH-INTERVAL;VALUE=DURATION:PT1H
X-Robots-Tag:noindex
X-PUBLISHED-TTL:PT1H
BEGIN:VTIMEZONE
TZID:America/New_York
BEGIN:DAYLIGHT
TZOFFSETFROM:-0500
TZOFFSETTO:-0400
TZNAME:EDT
DTSTART:20230312T070000
END:DAYLIGHT
BEGIN:STANDARD
TZOFFSETFROM:-0400
TZOFFSETTO:-0500
TZNAME:EST
DTSTART:20231105T060000
END:STANDARD
BEGIN:DAYLIGHT
TZOFFSETFROM:-0500
TZOFFSETTO:-0400
TZNAME:EDT
DTSTART:20240310T070000
END:DAYLIGHT
BEGIN:STANDARD
TZOFFSETFROM:-0400
TZOFFSETTO:-0500
TZNAME:EST
DTSTART:20241103T060000
END:STANDARD
BEGIN:DAYLIGHT
TZOFFSETFROM:-0500
TZOFFSETTO:-0400
TZNAME:EDT
DTSTART:20250309T070000
END:DAYLIGHT
BEGIN:STANDARD
TZOFFSETFROM:-0400
TZOFFSETTO:-0500
TZNAME:EST
DTSTART:20251102T060000
END:STANDARD
END:VTIMEZONE
BEGIN:VEVENT
DTSTART;VALUE=DATE:20241104
DTEND;VALUE=DATE:20241106
DTSTAMP:20260419T150335
CREATED:20241024T194711Z
LAST-MODIFIED:20241026T014729Z
UID:10000004-1730761200-1730847599@alexgop.org
SUMMARY:Election Night Watch Party
DESCRIPTION:Election Night Watch Party \nThe Yard @ Monkey Manor\nTuesday\, November 5th \, 2024 \n30 minutes after polls close until 10:30 pm \nCome by and watch as the results roll in.\nWe have the food\, drinks and tv’s.\nYou bring your jacket\, blanket and chair. \nLocation Provided Upon RSVP
URL:https://alexgop.org/event/election-night-watch-party/
ATTACH;FMTTYPE=application/pdf:https://alexgop.org/wp-content/uploads/2024/10/Election-Watch-Party-2024-Flyer.pdf
ORGANIZER;CN="Alexandria City Republicans":MAILTO:info@alexgop.org
END:VEVENT
BEGIN:VEVENT
DTSTART;TZID=America/New_York:20241027T123000
DTEND;TZID=America/New_York:20241027T160000
DTSTAMP:20260419T150335
CREATED:20241024T195908Z
LAST-MODIFIED:20241024T195908Z
UID:10000005-1730032200-1730044800@alexgop.org
SUMMARY:10/27 Alexandria GOP Super Sunday Door Knock
DESCRIPTION:Join the Trump Campaign and the Alexandria GOP to help us reach fellow Republicans in your neighborhoods and get them out to vote! \nWe will meet at the Alexandria GOP office located at  221 S Henry St\, Alexandria\, VA 22314 at 1:30pm for training and we will head out to our respective areas at 2:30pm. \n\nIf you have any questions\, please contact Sam Hazen at shazen@virginia.gop. \n\nPlease RSVP here.
URL:https://alexgop.org/event/super-sunday-door-knock/
LOCATION:Alexandria City GOP Office\, 221 S Henry St\, Alexandria\, VA\, 22314\, United States
ATTACH;FMTTYPE=image/webp:https://alexgop.org/wp-content/uploads/2024/09/Trump-Force-Alexandria.webp
ORGANIZER;CN="Alexandria City Republicans":MAILTO:info@alexgop.org
END:VEVENT
BEGIN:VEVENT
DTSTART;TZID=America/New_York:20241016T183000
DTEND;TZID=America/New_York:20241016T193000
DTSTAMP:20260419T150335
CREATED:20240929T123558Z
LAST-MODIFIED:20241004T193603Z
UID:10000002-1729103400-1729107000@alexgop.org
SUMMARY:Alexandria City Republican Committee Meeting
DESCRIPTION:(With the exception of October 2024) The Alexandria GOP (ARCC) meets on the 1st Wednesday of each month at 7:30pm.  Doors open at 7:15pm to enjoy social time with other active Republicans.
URL:https://alexgop.org/event/alexandria-city-republican-committee-meeting/
LOCATION:Alexandria City Police Headquarters (Meeting Room)\, 3600 Wheeler Ave\, Alexandria\, United States
END:VEVENT
BEGIN:VEVENT
DTSTART;TZID=America/New_York:20240929T120000
DTEND;TZID=America/New_York:20240929T143000
DTSTAMP:20260419T150335
CREATED:20240926T211549Z
LAST-MODIFIED:20240926T211843Z
UID:10000001-1727611200-1727620200@alexgop.org
SUMMARY:2024 Alexandria GOP Picnic
DESCRIPTION:
URL:https://alexgop.org/event/2024-alexandria-gop-picnic/
LOCATION:Fort Ward Park\, 4301 W Braddock Rd\, Alexandria\, VA\, United States
ATTACH;FMTTYPE=image/jpeg:https://alexgop.org/wp-content/uploads/2024/09/9.29.24_GOP_Picnic_invitation_V2.jpg
ORGANIZER;CN="Alexandria City Republicans":MAILTO:info@alexgop.org
END:VEVENT
BEGIN:VEVENT
DTSTART;TZID=America/New_York:20240928T080000
DTEND;TZID=America/New_York:20240928T140000
DTSTAMP:20260419T150335
CREATED:20240929T125653Z
LAST-MODIFIED:20240929T125653Z
UID:10000003-1727510400-1727532000@alexgop.org
SUMMARY:9/28 Alexandria GOP Super Saturday Door Knock
DESCRIPTION:Join the Trump Campaign and the Alexandria GOP to help us reach fellow Republicans in your neighborhoods and get them out to vote!  \nWe will meet at the Alexandria GOP office located at  221 S Henry St\, Alexandria\, VA 22314 at 9am for training and we will head out to our respective areas at 10am.\nLocation Name: Alexandria GOP Office \nIf you are not currently a Trump Force 47 Captain\, please contact Sam Hazen at shazen@virginia.gop to get set up with the program.
URL:https://alexgop.org/event/9-28-alexandria-gop-super-saturday-door-knock/
LOCATION:Alexandria City GOP Office\, 221 S Henry St\, Alexandria\, VA\, 22314\, United States
ATTACH;FMTTYPE=image/webp:https://alexgop.org/wp-content/uploads/2024/09/Trump-Force-Alexandria.webp
ORGANIZER;CN="Sam Hazen":MAILTO:shazen@virginia.gop
END:VEVENT
END:VCALENDAR